BEGIN:VCALENDAR
VERSION:2.0
PRODID:-//Friends of Strathcona County Library - ECPv6.15.20//NONSGML v1.0//EN
CALSCALE:GREGORIAN
METHOD:PUBLISH
X-WR-CALNAME:Friends of Strathcona County Library
X-ORIGINAL-URL:https://friendsscl.ca
X-WR-CALDESC:Events for Friends of Strathcona County Library
REFRESH-INTERVAL;VALUE=DURATION:PT1H
X-Robots-Tag:noindex
X-PUBLISHED-TTL:PT1H
BEGIN:VTIMEZONE
TZID:America/Edmonton
BEGIN:DAYLIGHT
TZOFFSETFROM:-0700
TZOFFSETTO:-0600
TZNAME:MDT
DTSTART:20230312T090000
END:DAYLIGHT
BEGIN:STANDARD
TZOFFSETFROM:-0600
TZOFFSETTO:-0700
TZNAME:MST
DTSTART:20231105T080000
END:STANDARD
BEGIN:DAYLIGHT
TZOFFSETFROM:-0700
TZOFFSETTO:-0600
TZNAME:MDT
DTSTART:20240310T090000
END:DAYLIGHT
BEGIN:STANDARD
TZOFFSETFROM:-0600
TZOFFSETTO:-0700
TZNAME:MST
DTSTART:20241103T080000
END:STANDARD
BEGIN:DAYLIGHT
TZOFFSETFROM:-0700
TZOFFSETTO:-0600
TZNAME:MDT
DTSTART:20250309T090000
END:DAYLIGHT
BEGIN:STANDARD
TZOFFSETFROM:-0600
TZOFFSETTO:-0700
TZNAME:MST
DTSTART:20251102T080000
END:STANDARD
BEGIN:DAYLIGHT
TZOFFSETFROM:-0700
TZOFFSETTO:-0600
TZNAME:MDT
DTSTART:20260308T090000
END:DAYLIGHT
BEGIN:STANDARD
TZOFFSETFROM:-0600
TZOFFSETTO:-0700
TZNAME:MST
DTSTART:20261101T080000
END:STANDARD
BEGIN:DAYLIGHT
TZOFFSETFROM:-0700
TZOFFSETTO:-0600
TZNAME:MDT
DTSTART:20270314T090000
END:DAYLIGHT
BEGIN:STANDARD
TZOFFSETFROM:-0600
TZOFFSETTO:-0700
TZNAME:MST
DTSTART:20271107T080000
END:STANDARD
END:VTIMEZONE
BEGIN:VEVENT
DTSTART;TZID=America/Edmonton:20260307T110000
DTEND;TZID=America/Edmonton:20260307T150000
DTSTAMP:20260419T111759
CREATED:20260209T220855Z
LAST-MODIFIED:20260209T220855Z
UID:3467-1772881200-1772895600@friendsscl.ca
SUMMARY:Winter Carnival 2026
DESCRIPTION:Winter Carnival is back and of course\, it’s bigger and better than ever!\nOnce again there will be teams of horse-drawn carriages\, lots of activities and entertainment\, there will also be plenty of giveaways.\nAll of which is FREE\nMore to be announced soon\, please check back as we get closer to the date. There’s lots to do and share and we are always looking for volunteers and collaborators so reach out via our website for more information and to get in touch!
URL:https://friendsscl.ca/event/winter-carnival-2026/
LOCATION:Sherwood Park Log Cabin\, 50 Spruce Ave\, Sherwood Park\, Alberta\, T8A 2B7\, Canada
ATTACH;FMTTYPE=image/jpeg:https://friendsscl.ca/wp-content/uploads/2026/02/Winter-Carnival-e1770674407774.jpg
ORGANIZER;CN="Sherwood Heights Community League":MAILTO:sherwoodheightscommunity@gmail.com
END:VEVENT
BEGIN:VEVENT
DTSTART;TZID=America/Edmonton:20260214T093000
DTEND;TZID=America/Edmonton:20260214T163000
DTSTAMP:20260419T111759
CREATED:20260209T215429Z
LAST-MODIFIED:20260209T215429Z
UID:3463-1771061400-1771086600@friendsscl.ca
SUMMARY:Winter Book Sale
DESCRIPTION:Score some great deals on gently used books and DVDs at the library’s quarterly book sale! Proceeds support the purchase of new materials for the library’s collections.\n\nSuitable for:\nAdults\nFamilies\nKids (Grade 4–6)\nKids (Kindergarten–Grade 3)\nSeniors\nTeens (Grade 7–12)
URL:https://friendsscl.ca/event/winter-book-sale-2/
LOCATION:Strathcona County Library\, 401 Festival Lane\, Sherwood Park\, Alberta\, T8A 5P7\, Canada
END:VEVENT
BEGIN:VEVENT
DTSTART;TZID=America/Edmonton:20251023T190000
DTEND;TZID=America/Edmonton:20251023T210000
DTSTAMP:20260419T111759
CREATED:20250630T201607Z
LAST-MODIFIED:20250917T184337Z
UID:3167-1761246000-1761253200@friendsscl.ca
SUMMARY:2nd Annual Sip & Sojourn
DESCRIPTION:Event Overview:\nThe 2nd annual Sip & Sojourn is a fundraising event with wine tasting and cultural exploration\,\ncelebrating the unique flavors and stories of Portugal and Canada. This event invites guests to enjoy\nwine\, travel\, and community connection\, whether you’re planning a trip overseas or doing some\narmchair travelling with a glass of wine and a good book. Guided by a professional sommelier\,\nattendees will explore select wines paired with locally made chocolates. We will\nalso highlight literary connections to these regions by featuring library books set in or inspired by\nPortugal and Canada.. This sophisticated gathering offers adults a chance to connect over fine wines\,\nand themed presentations\, all while supporting Friends of the Strathcona County Library. \nInterested in sponsoring Sip & Sojourn? \nYour sponsorship helps us create a memorable experience that fosters community engagement and\nraises vital funds for Friends-funded library initiatives. This event allows sponsors to showcase their\nsupport while connecting with an engaged audience in a refined setting. \nSponsorship Needs:\n● Food and Beverage: We seek sponsors to cover the costs of snacks\nand related accompaniments.\n● Raffle Prize Donations: We will hold a raffle with a $10 ticket price\, featuring a prize filled\nwith donated items from community businesses. We welcome raffle prize donations to\nenhance the value and appeal of the giveaway. \nBenefits for Sponsors:\n● Recognition in event marketing materials\, including social media\, email campaigns\, and\nonsite signage\n● Opportunity to cross-promote with the Friends of the Library through our established\nchannels with exposure to a targeted audience of adults interested in wine\, travel and\ncommunity support \nWe welcome the opportunity to partner with you and celebrate this unique event together. Interested in joining us as a sponsor or raffle prize donor? Please contact us at teresa@friendsscl.ca
URL:https://friendsscl.ca/event/2nd-annual-sip-sojourn/
LOCATION:Strathcona County Community Centre\, 401 Festival Ln\, Sherwood Park\, Alberta\, T8A 3W7\, Canada
ORGANIZER;CN="Friends of Strathcona County Library":MAILTO:info@friendsscl.ca
END:VEVENT
BEGIN:VEVENT
DTSTART;TZID=America/Edmonton:20250816T093000
DTEND;TZID=America/Edmonton:20250816T163000
DTSTAMP:20260419T111759
CREATED:20250727T163334Z
LAST-MODIFIED:20250727T163334Z
UID:3185-1755336600-1755361800@friendsscl.ca
SUMMARY:Summer Book Sale
DESCRIPTION:Don’t miss the library’s popular quarterly book sale! Find amazing deals on gently used books and DVDs for all ages. Proceeds help fund new materials for the library’s collection – so every purchase supports your library! \nSaturday\, August 16\, 2025\n9:30 AM – 4:30 PM \nThe Friends of the Strathcona County Library are proud to help coordinate volunteers for this event — we always look forward to supporting the library and connecting with our community. \nIf you’re interested in volunteering for this event and future events\, view our volunteer opportunities here. They do fill up fast\, though! Be sure to sign up for our emails to get notified about volunteer opportunities as soon as they’re available. 
URL:https://friendsscl.ca/event/summer-book-sale/
LOCATION:Strathcona County Community Centre\, 401 Festival Ln\, Sherwood Park\, Alberta\, T8A 3W7\, Canada
END:VEVENT
BEGIN:VEVENT
DTSTART;TZID=America/Edmonton:20250316T130000
DTEND;TZID=America/Edmonton:20250316T160000
DTSTAMP:20260419T111759
CREATED:20250202T015004Z
LAST-MODIFIED:20250202T015056Z
UID:2905-1742130000-1742140800@friendsscl.ca
SUMMARY:Book Swap & Social Fundraiser
DESCRIPTION:Join us for an afternoon of books\, community\, and fun!\n$10 per person; 12 and under FREE \n\nBring a selection of books you’ve enjoyed and are ready to pass along—fiction\, nonfiction\, children’s books\, cookbooks\, or anything in between. We’ll set up a designated swapping area where you can explore and pick out new reads to take home. \n\nIt’s the perfect opportunity to refresh your bookshelf\, discover exciting new titles\, and connect with fellow book lovers in the community. \n\nEach ticket includes entry to the event\, door prize entries\, refreshments and a chance to socialize with other book enthusiasts all while supporting Friends-funded initiatives at the Strathcona County Library.
URL:https://friendsscl.ca/event/book-swap-social-fundraiser/
LOCATION:Strathcona County Community Centre\, 401 Festival Ln\, Sherwood Park\, Alberta\, T8A 3W7\, Canada
ORGANIZER;CN="Friends of Strathcona County Library":MAILTO:info@friendsscl.ca
END:VEVENT
BEGIN:VEVENT
DTSTART;TZID=America/Edmonton:20250208T093000
DTEND;TZID=America/Edmonton:20250208T163000
DTSTAMP:20260419T111759
CREATED:20250202T014224Z
LAST-MODIFIED:20250202T014225Z
UID:2902-1739007000-1739032200@friendsscl.ca
SUMMARY:Winter Book Sale
DESCRIPTION:Join us at the Strathcona County Library on Saturday\, February 8 for the Winter Book Sale. The book sale is open from 9:30 am to 4:30 pm. You have only one day to grab fantastic bargains! You won’t want to miss it. \nThe sale will be held in the Strathcona County Community Centre Meeting Rooms 3 & 4 (401 Festival Lane\, Sherwood Park).  \nOld favorites from the library’s collections find new homes\, while funds raised support the purchase of new materials for the library’s collection. Friends is always delighted to participate in this event.  \nDon’t have enough room on your bookshelf for more books? Consider donating your no-longer-needed books.  You can donate gently used books to the library all year round.  Any books the library is unable to add to its collections become a part of the next book sale\, ensuring everyone wins. OR save your books for a Friends Book Swap & Social fundraising event where you can bring books to trade and discuss with other Friends. 
URL:https://friendsscl.ca/event/winter-book-sale/
LOCATION:Strathcona County Community Centre\, 401 Festival Ln\, Sherwood Park\, Alberta\, T8A 3W7\, Canada
END:VEVENT
BEGIN:VEVENT
DTSTART;TZID=America/Edmonton:20241130T090000
DTEND;TZID=America/Edmonton:20241130T163000
DTSTAMP:20260419T111759
CREATED:20241118T042926Z
LAST-MODIFIED:20241118T042926Z
UID:2836-1732957200-1732984200@friendsscl.ca
SUMMARY:Winterfest
DESCRIPTION:Located in the Agora at the Community Centre.  \nJoin us for a joyful day of fun and connection with the community—see you at Winterfest! \nFind more information about this FREE family celebration here!
URL:https://friendsscl.ca/event/winterfest/
LOCATION:Strathcona County Community Centre\, 401 Festival Ln\, Sherwood Park\, Alberta\, T8A 3W7\, Canada
END:VEVENT
END:VCALENDAR