BEGIN:VCALENDAR
VERSION:2.0
PRODID:-//Friends of Strathcona County Library - ECPv6.15.20//NONSGML v1.0//EN
CALSCALE:GREGORIAN
METHOD:PUBLISH
X-ORIGINAL-URL:https://friendsscl.ca
X-WR-CALDESC:Events for Friends of Strathcona County Library
REFRESH-INTERVAL;VALUE=DURATION:PT1H
X-Robots-Tag:noindex
X-PUBLISHED-TTL:PT1H
BEGIN:VTIMEZONE
TZID:America/Edmonton
BEGIN:DAYLIGHT
TZOFFSETFROM:-0700
TZOFFSETTO:-0600
TZNAME:MDT
DTSTART:20250309T090000
END:DAYLIGHT
BEGIN:STANDARD
TZOFFSETFROM:-0600
TZOFFSETTO:-0700
TZNAME:MST
DTSTART:20251102T080000
END:STANDARD
BEGIN:DAYLIGHT
TZOFFSETFROM:-0700
TZOFFSETTO:-0600
TZNAME:MDT
DTSTART:20260308T090000
END:DAYLIGHT
BEGIN:STANDARD
TZOFFSETFROM:-0600
TZOFFSETTO:-0700
TZNAME:MST
DTSTART:20261101T080000
END:STANDARD
BEGIN:DAYLIGHT
TZOFFSETFROM:-0700
TZOFFSETTO:-0600
TZNAME:MDT
DTSTART:20270314T090000
END:DAYLIGHT
BEGIN:STANDARD
TZOFFSETFROM:-0600
TZOFFSETTO:-0700
TZNAME:MST
DTSTART:20271107T080000
END:STANDARD
END:VTIMEZONE
BEGIN:VEVENT
DTSTART;TZID=America/Edmonton:20260209T080000
DTEND;TZID=America/Edmonton:20260317T170000
DTSTAMP:20260419T093754
CREATED:20260209T182354Z
LAST-MODIFIED:20260209T182354Z
UID:3443-1770624000-1773766800@friendsscl.ca
SUMMARY:50/50 Cash Raffle
DESCRIPTION:6th Annual Friends of Strathcona County Library Society 50/50 Cash Raffle! \nFriends of Strathcona County Library is excited to announce our 6th Annual online 50/50 Cash Raffle. \nOne lucky person will win 50% of the funds raised. \nThe money raised will be used to assist the Library with their special programs and the purchase of online materials. For over 30 years\, the FSCL Society has been helping our Library raise funds to meet specific needs\, and promoting the services of the Library through public relations. We are offering this 50/50 Raffle in order to help us keep these commitments. \nOur Library is a significant resource for lifelong learning for children\, students\, adults\, and seniors. Your contributions to this raffle are greatly appreciated\, and help to fund programs like the Welcome Baby program and the purchase of Wonderbooks for young readers. \nThank you for supporting the Friends of Strathcona County Library’s work in support of the Strathcona County Library!
URL:https://friendsscl.ca/event/50-50-cash-raffle/
LOCATION:Alberta
ORGANIZER;CN="Friends of Strathcona County Library":MAILTO:info@friendsscl.ca
END:VEVENT
BEGIN:VEVENT
DTSTART;TZID=America/Edmonton:20260314T130000
DTEND;TZID=America/Edmonton:20260314T150000
DTSTAMP:20260419T093754
CREATED:20260209T215044Z
LAST-MODIFIED:20260209T221052Z
UID:3454-1773493200-1773500400@friendsscl.ca
SUMMARY:PubNPaint
DESCRIPTION:A step-by-step painting class… in a bar. Truly the best of both worlds! \nThis special fundraising event supports the Friends of Strathcona County Library Society (FSCL) and is proudly presented by the Friends of Strathcona County Library Society.\nPaint for your local library!\nFollow along with easy\, step-by-step instructions while you sip your favourite drink and enjoy the food and atmosphere at Boston Pizza\, all for a great cause. This event is designed to be inclusive\, relaxed\, and totally non-intimidating\, making it the perfect opportunity to create art\, try something new\, and have fun in good company.\nAll supplies are included\, just bring yourself and be ready for a great time!\nPubNPaint\, FSCL\, and their affiliates are not liable if you get paint on yourself… or worse\, accidentally drink it.
URL:https://friendsscl.ca/event/pubnpaint2026/
LOCATION:Boston Pizza Wye Road\, 967 Ordze Rd\, Sherwood Park\, Alberta\, T8A 4L7\, Canada
ATTACH;FMTTYPE=image/jpeg:https://friendsscl.ca/wp-content/uploads/2026/02/PubNPaint.jpeg
ORGANIZER;CN="Friends of Strathcona County Library":MAILTO:info@friendsscl.ca
END:VEVENT
END:VCALENDAR